BEGIN:VCALENDAR
VERSION:2.0
PRODID:Carnaval 2026
X-WR-CALNAME:Carnaval 2026
X-WR-TIMEZONE:Europe/Lisbon
X-PUBLISHED-TTL:P1W
BEGIN:VTIMEZONE
TZID:Europe/Lisbon
X-LIC-LOCATION:Europe/Lisbon
END:VTIMEZONE
BEGIN:VEVENT
UID:69e89cfe13469
DTSTART;VALUE=DATE:20260207
SEQUENCE:0
TRANSP:OPAQUE
DTEND;VALUE=DATE:20260208
SUMMARY:Carnaval 2026
CLASS:PUBLIC
DESCRIPTION:Carnaval uma época festival em que reúne muita gente na nossa
  Freguesia\, tendo o seu inicio com o Domingo Magro e só terminando na Te
 rça Feira de Carnaval.Por esta altura\, poderão ver brincadeiras de masc
 arados\, danças e brincadeiras apresentadas em praça\, onde a maior crit
 ica é a sátira social.
X-MICROSOFT-CDO-ALLDAYEVENT:TRUE
DTSTAMP:20260422T100342Z
END:VEVENT
END:VCALENDAR